BEGIN:VCALENDAR
VERSION:2.0
PRODID:-//Little Apple Golf Course - ECPv6.15.18//NONSGML v1.0//EN
CALSCALE:GREGORIAN
METHOD:PUBLISH
X-ORIGINAL-URL:https://www.littleapplegolfcourse.com
X-WR-CALDESC:Events for Little Apple Golf Course
REFRESH-INTERVAL;VALUE=DURATION:PT1H
X-Robots-Tag:noindex
X-PUBLISHED-TTL:PT1H
BEGIN:VTIMEZONE
TZID:UTC
BEGIN:STANDARD
TZOFFSETFROM:+0000
TZOFFSETTO:+0000
TZNAME:UTC
DTSTART:20250101T000000
END:STANDARD
END:VTIMEZONE
BEGIN:VEVENT
DTSTART;TZID=UTC:20260516T090000
DTEND;TZID=UTC:20260516T150000
DTSTAMP:20260419T152109
CREATED:20260407T201654Z
LAST-MODIFIED:20260407T201658Z
UID:10000001-1778922000-1778943600@www.littleapplegolfcourse.com
SUMMARY:The Owls Golf Outing
DESCRIPTION:
URL:https://www.littleapplegolfcourse.com/event-calendar/the-owls-golf-outing/
END:VEVENT
BEGIN:VEVENT
DTSTART;TZID=UTC:20260523T090000
DTEND;TZID=UTC:20260523T160000
DTSTAMP:20260419T152109
CREATED:20260407T201809Z
LAST-MODIFIED:20260407T201812Z
UID:10000002-1779526800-1779552000@www.littleapplegolfcourse.com
SUMMARY:North Bend Church Golf Outing
DESCRIPTION:
URL:https://www.littleapplegolfcourse.com/event-calendar/north-bend-church-golf-outing/
END:VEVENT
BEGIN:VEVENT
DTSTART;TZID=UTC:20260613T090000
DTEND;TZID=UTC:20260613T160000
DTSTAMP:20260419T152109
CREATED:20260407T201913Z
LAST-MODIFIED:20260407T201916Z
UID:10000003-1781341200-1781366400@www.littleapplegolfcourse.com
SUMMARY:Spanky Memorial Golf Outing
DESCRIPTION:
URL:https://www.littleapplegolfcourse.com/event-calendar/spanky-memorial-golf-outing/
END:VEVENT
BEGIN:VEVENT
DTSTART;TZID=UTC:20260620T090000
DTEND;TZID=UTC:20260620T150000
DTSTAMP:20260419T152109
CREATED:20260407T202122Z
LAST-MODIFIED:20260407T202125Z
UID:10000004-1781946000-1781967600@www.littleapplegolfcourse.com
SUMMARY:Clear Fork Wrestling Booster Outing
DESCRIPTION:
URL:https://www.littleapplegolfcourse.com/event-calendar/clear-fork-wrestling-booster-outing/
END:VEVENT
BEGIN:VEVENT
DTSTART;TZID=UTC:20260627T090000
DTEND;TZID=UTC:20260627T150000
DTSTAMP:20260419T152109
CREATED:20260407T202314Z
LAST-MODIFIED:20260407T202318Z
UID:10000005-1782550800-1782572400@www.littleapplegolfcourse.com
SUMMARY:Danville 600 Golf Outing
DESCRIPTION:
URL:https://www.littleapplegolfcourse.com/event-calendar/danville-600-golf-outing/
END:VEVENT
BEGIN:VEVENT
DTSTART;TZID=UTC:20260711T090000
DTEND;TZID=UTC:20260711T160000
DTSTAMP:20260419T152109
CREATED:20260407T202427Z
LAST-MODIFIED:20260407T202430Z
UID:10000006-1783760400-1783785600@www.littleapplegolfcourse.com
SUMMARY:Clear Fork Football Booster Outing
DESCRIPTION:
URL:https://www.littleapplegolfcourse.com/event-calendar/clear-fork-football-booster-outing/
END:VEVENT
BEGIN:VEVENT
DTSTART;TZID=UTC:20260718T090000
DTEND;TZID=UTC:20260718T150000
DTSTAMP:20260419T152109
CREATED:20260407T202635Z
LAST-MODIFIED:20260407T202638Z
UID:10000007-1784365200-1784386800@www.littleapplegolfcourse.com
SUMMARY:Lifewise Golf Outing
DESCRIPTION:
URL:https://www.littleapplegolfcourse.com/event-calendar/lifewise-golf-outing/
END:VEVENT
BEGIN:VEVENT
DTSTART;TZID=UTC:20260801T090000
DTEND;TZID=UTC:20260801T150000
DTSTAMP:20260419T152109
CREATED:20260407T202827Z
LAST-MODIFIED:20260407T202831Z
UID:10000008-1785574800-1785596400@www.littleapplegolfcourse.com
SUMMARY:Breast Cancer Golf Outing
DESCRIPTION:
URL:https://www.littleapplegolfcourse.com/event-calendar/breast-cancer-golf-outing/
END:VEVENT
BEGIN:VEVENT
DTSTART;TZID=UTC:20260808T090000
DTEND;TZID=UTC:20260808T170000
DTSTAMP:20260419T152109
CREATED:20260407T202938Z
LAST-MODIFIED:20260407T202943Z
UID:10000009-1786179600-1786208400@www.littleapplegolfcourse.com
SUMMARY:Tall Timbers Golf Outing
DESCRIPTION:
URL:https://www.littleapplegolfcourse.com/event-calendar/tall-timbers-golf-outing/
END:VEVENT
BEGIN:VEVENT
DTSTART;TZID=UTC:20260822T090000
DTEND;TZID=UTC:20260822T150000
DTSTAMP:20260419T152109
CREATED:20260407T203050Z
LAST-MODIFIED:20260407T203054Z
UID:10000010-1787389200-1787410800@www.littleapplegolfcourse.com
SUMMARY:Moose Lodge Golf Outing
DESCRIPTION:
URL:https://www.littleapplegolfcourse.com/event-calendar/moose-lodge-golf-outing/
END:VEVENT
BEGIN:VEVENT
DTSTART;TZID=UTC:20260926T090000
DTEND;TZID=UTC:20260926T150000
DTSTAMP:20260419T152109
CREATED:20260407T203153Z
LAST-MODIFIED:20260407T203156Z
UID:10000011-1790413200-1790434800@www.littleapplegolfcourse.com
SUMMARY:American Legion Golf Outing
DESCRIPTION:
URL:https://www.littleapplegolfcourse.com/event-calendar/american-legion-golf-outing/
END:VEVENT
END:VCALENDAR